Package: Herper Version: 1.10.1 Command: /Library/Frameworks/R.framework/Resources/bin/R CMD build --keep-empty-dirs --no-resave-data Herper StartedAt: 2023-10-15 18:50:34 -0400 (Sun, 15 Oct 2023) EndedAt: 2023-10-15 18:50:58 -0400 (Sun, 15 Oct 2023) EllapsedTime: 24.1 seconds RetCode: 0 Status: OK PackageFile: Herper_1.10.1.tar.gz PackageFileSize: 407.8 KiB