Package: Herper Version: 1.10.1 Command: rm -rf Herper.buildbin-libdir && mkdir Herper.buildbin-libdir && /Users/biocbuild/BBS/utils/build-universal.sh Herper_1.10.1.tar.gz /Library/Frameworks/R.framework/Resources/bin/R Herper.buildbin-libdir StartedAt: 2023-10-16 09:32:30 -0400 (Mon, 16 Oct 2023) EndedAt: 2023-10-16 09:32:53 -0400 (Mon, 16 Oct 2023) EllapsedTime: 22.9 seconds RetCode: 0 Status: OK PackageFile: Herper_1.10.1.tgz PackageFileSize: 459.6 KiB