Package: HelloRanges Version: 1.26.0 Command: chmod a+r HelloRanges -R && F:\biocbuild\bbs-3.17-bioc\R\bin\R.exe CMD build --keep-empty-dirs --no-resave-data HelloRanges StartedAt: 2023-10-15 19:47:44 -0400 (Sun, 15 Oct 2023) EndedAt: 2023-10-15 20:02:42 -0400 (Sun, 15 Oct 2023) EllapsedTime: 898.5 seconds RetCode: 0 Status: OK PackageFile: HelloRanges_1.26.0.tar.gz PackageFileSize: 953.2 KiB