Package: HelloRanges Version: 1.26.0 Command: /Library/Frameworks/R.framework/Resources/bin/R CMD INSTALL HelloRanges StartedAt: 2023-10-15 15:39:47 -0400 (Sun, 15 Oct 2023) EndedAt: 2023-10-15 15:42:07 -0400 (Sun, 15 Oct 2023) EllapsedTime: 140.4 seconds RetCode: 0 Status: OK