Package: Heatplus Version: 3.8.0 Command: F:\biocbuild\bbs-3.17-bioc\R\bin\R.exe CMD check --no-multiarch --install=check:Heatplus.install-out.txt --library=F:\biocbuild\bbs-3.17-bioc\R\library --no-vignettes --timings Heatplus_3.8.0.tar.gz StartedAt: 2023-10-16 02:58:44 -0400 (Mon, 16 Oct 2023) EndedAt: 2023-10-16 02:59:14 -0400 (Mon, 16 Oct 2023) EllapsedTime: 29.9 seconds RetCode: 0 Status: OK CheckDir: Heatplus.Rcheck Warnings: 0