Package: Heatplus Version: 3.8.0 Command: chmod a+r Heatplus -R && F:\biocbuild\bbs-3.17-bioc\R\bin\R.exe CMD build --keep-empty-dirs --no-resave-data Heatplus StartedAt: 2023-10-15 19:47:43 -0400 (Sun, 15 Oct 2023) EndedAt: 2023-10-15 19:48:05 -0400 (Sun, 15 Oct 2023) EllapsedTime: 22.3 seconds RetCode: 0 Status: OK PackageFile: Heatplus_3.8.0.tar.gz PackageFileSize: 861.6 KiB