Package: Heatplus Version: 3.8.0 Command: /Library/Frameworks/R.framework/Resources/bin/R CMD build --keep-empty-dirs --no-resave-data Heatplus StartedAt: 2023-10-15 18:49:32 -0400 (Sun, 15 Oct 2023) EndedAt: 2023-10-15 18:50:17 -0400 (Sun, 15 Oct 2023) EllapsedTime: 45.0 seconds RetCode: 0 Status: OK PackageFile: Heatplus_3.8.0.tar.gz PackageFileSize: 1.18 MiB