Package: Heatplus Version: 3.8.0 Command: rm -rf Heatplus.buildbin-libdir && mkdir Heatplus.buildbin-libdir && /Users/biocbuild/BBS/utils/build-universal.sh Heatplus_3.8.0.tar.gz /Library/Frameworks/R.framework/Resources/bin/R Heatplus.buildbin-libdir StartedAt: 2023-10-16 09:32:19 -0400 (Mon, 16 Oct 2023) EndedAt: 2023-10-16 09:32:29 -0400 (Mon, 16 Oct 2023) EllapsedTime: 10.6 seconds RetCode: 0 Status: OK PackageFile: Heatplus_3.8.0.tgz PackageFileSize: 1.262 MiB