Package: HMMcopy Version: 1.42.0 Command: rm -rf HMMcopy.buildbin-libdir && mkdir HMMcopy.buildbin-libdir && F:\biocbuild\bbs-3.17-bioc\R\bin\R.exe CMD INSTALL --build --library=HMMcopy.buildbin-libdir HMMcopy_1.42.0.tar.gz StartedAt: 2023-10-16 08:56:22 -0400 (Mon, 16 Oct 2023) EndedAt: 2023-10-16 08:56:34 -0400 (Mon, 16 Oct 2023) EllapsedTime: 11.6 seconds RetCode: 0 Status: OK PackageFile: HMMcopy_1.42.0.zip PackageFileSize: 1.296 MiB