Package: HMMcopy Version: 1.42.0 Command: /Library/Frameworks/R.framework/Resources/bin/R CMD check --install=check:HMMcopy.install-out.txt --library=/Library/Frameworks/R.framework/Resources/library --no-vignettes --timings HMMcopy_1.42.0.tar.gz StartedAt: 2023-10-16 02:42:24 -0400 (Mon, 16 Oct 2023) EndedAt: 2023-10-16 02:43:27 -0400 (Mon, 16 Oct 2023) EllapsedTime: 63.1 seconds RetCode: 0 Status: WARNINGS CheckDir: HMMcopy.Rcheck Warnings: 1