Package: HMMcopy Version: 1.42.0 Command: /Library/Frameworks/R.framework/Resources/bin/R CMD build --keep-empty-dirs --no-resave-data HMMcopy StartedAt: 2023-10-15 18:54:11 -0400 (Sun, 15 Oct 2023) EndedAt: 2023-10-15 18:54:53 -0400 (Sun, 15 Oct 2023) EllapsedTime: 41.5 seconds RetCode: 0 Status: OK PackageFile: HMMcopy_1.42.0.tar.gz PackageFileSize: 1.902 MiB