Package: HIPPO Version: 1.12.0 Command: rm -rf HIPPO.buildbin-libdir && mkdir HIPPO.buildbin-libdir && F:\biocbuild\bbs-3.17-bioc\R\bin\R.exe CMD INSTALL --build --library=HIPPO.buildbin-libdir HIPPO_1.12.0.tar.gz StartedAt: 2023-10-16 08:56:14 -0400 (Mon, 16 Oct 2023) EndedAt: 2023-10-16 08:56:43 -0400 (Mon, 16 Oct 2023) EllapsedTime: 29.1 seconds RetCode: 0 Status: OK PackageFile: HIPPO_1.12.0.zip PackageFileSize: 892.4 KiB