Package: HIBAG Version: 1.36.4 Command: F:\biocbuild\bbs-3.17-bioc\R\bin\R.exe CMD check --no-multiarch --install=check:HIBAG.install-out.txt --library=F:\biocbuild\bbs-3.17-bioc\R\library --no-vignettes --timings HIBAG_1.36.4.tar.gz StartedAt: 2023-10-16 03:00:02 -0400 (Mon, 16 Oct 2023) EndedAt: 2023-10-16 03:01:36 -0400 (Mon, 16 Oct 2023) EllapsedTime: 93.8 seconds RetCode: 0 Status: OK CheckDir: HIBAG.Rcheck Warnings: 0