Package: HIBAG Version: 1.36.4 Command: rm -rf HIBAG.buildbin-libdir && mkdir HIBAG.buildbin-libdir && F:\biocbuild\bbs-3.17-bioc\R\bin\R.exe CMD INSTALL --build --library=HIBAG.buildbin-libdir HIBAG_1.36.4.tar.gz StartedAt: 2023-10-16 08:55:42 -0400 (Mon, 16 Oct 2023) EndedAt: 2023-10-16 08:56:26 -0400 (Mon, 16 Oct 2023) EllapsedTime: 43.4 seconds RetCode: 0 Status: OK PackageFile: HIBAG_1.36.4.zip PackageFileSize: 1.986 MiB