Package: HEM Version: 1.72.0 Command: F:\biocbuild\bbs-3.17-bioc\R\bin\R.exe CMD INSTALL HEM StartedAt: 2023-10-15 15:48:34 -0400 (Sun, 15 Oct 2023) EndedAt: 2023-10-15 15:48:54 -0400 (Sun, 15 Oct 2023) EllapsedTime: 20.0 seconds RetCode: 0 Status: OK