Package: HEM Version: 1.72.0 Command: F:\biocbuild\bbs-3.17-bioc\R\bin\R.exe CMD check --no-multiarch --install=check:HEM.install-out.txt --library=F:\biocbuild\bbs-3.17-bioc\R\library --no-vignettes --timings HEM_1.72.0.tar.gz StartedAt: 2023-10-16 02:59:15 -0400 (Mon, 16 Oct 2023) EndedAt: 2023-10-16 02:59:50 -0400 (Mon, 16 Oct 2023) EllapsedTime: 35.0 seconds RetCode: 0 Status: OK CheckDir: HEM.Rcheck Warnings: 0