Package: HELP Version: 1.58.0 Command: chmod a+r HELP -R && F:\biocbuild\bbs-3.17-bioc\R\bin\R.exe CMD build --keep-empty-dirs --no-resave-data HELP StartedAt: 2023-10-15 19:47:49 -0400 (Sun, 15 Oct 2023) EndedAt: 2023-10-15 19:48:08 -0400 (Sun, 15 Oct 2023) EllapsedTime: 19.1 seconds RetCode: 0 Status: OK PackageFile: HELP_1.58.0.tar.gz PackageFileSize: 895.7 KiB