Package: HELP Version: 1.58.0 Command: rm -rf HELP.buildbin-libdir && mkdir HELP.buildbin-libdir && F:\biocbuild\bbs-3.17-bioc\R\bin\R.exe CMD INSTALL --build --library=HELP.buildbin-libdir HELP_1.58.0.tar.gz StartedAt: 2023-10-16 08:55:31 -0400 (Mon, 16 Oct 2023) EndedAt: 2023-10-16 08:55:41 -0400 (Mon, 16 Oct 2023) EllapsedTime: 9.4 seconds RetCode: 0 Status: OK PackageFile: HELP_1.58.0.zip PackageFileSize: 1.013 MiB