Package: HELP Version: 1.58.0 Command: /home/biocbuild/bbs-3.17-bioc/R/bin/R CMD build --keep-empty-dirs --no-resave-data HELP StartedAt: 2023-10-15 17:05:17 -0400 (Sun, 15 Oct 2023) EndedAt: 2023-10-15 17:05:28 -0400 (Sun, 15 Oct 2023) EllapsedTime: 10.2 seconds RetCode: 0 Status: OK PackageFile: HELP_1.58.0.tar.gz PackageFileSize: 893.8 KiB