Package: HELP Version: 1.58.0 Command: /Library/Frameworks/R.framework/Resources/bin/R CMD INSTALL HELP StartedAt: 2023-10-15 15:04:41 -0400 (Sun, 15 Oct 2023) EndedAt: 2023-10-15 15:05:14 -0400 (Sun, 15 Oct 2023) EllapsedTime: 32.8 seconds RetCode: 0 Status: OK