Package: HELP Version: 1.58.0 Command: rm -rf HELP.buildbin-libdir && mkdir HELP.buildbin-libdir && /Users/biocbuild/BBS/utils/build-universal.sh HELP_1.58.0.tar.gz /Library/Frameworks/R.framework/Resources/bin/R HELP.buildbin-libdir StartedAt: 2023-10-16 09:32:29 -0400 (Mon, 16 Oct 2023) EndedAt: 2023-10-16 09:32:44 -0400 (Mon, 16 Oct 2023) EllapsedTime: 14.6 seconds RetCode: 0 Status: OK PackageFile: HELP_1.58.0.tgz PackageFileSize: 1.117 MiB