Package: HDF5Array Version: 1.28.1 Command: rm -rf HDF5Array.buildbin-libdir && mkdir HDF5Array.buildbin-libdir && F:\biocbuild\bbs-3.17-bioc\R\bin\R.exe CMD INSTALL --build --library=HDF5Array.buildbin-libdir HDF5Array_1.28.1.tar.gz StartedAt: 2023-10-16 08:55:14 -0400 (Mon, 16 Oct 2023) EndedAt: 2023-10-16 08:56:07 -0400 (Mon, 16 Oct 2023) EllapsedTime: 53.3 seconds RetCode: 0 Status: OK PackageFile: HDF5Array_1.28.1.zip PackageFileSize: 11.12 MiB