Package: Gviz Version: 1.44.2 Command: F:\biocbuild\bbs-3.17-bioc\R\bin\R.exe CMD check --no-multiarch --install=check:Gviz.install-out.txt --library=F:\biocbuild\bbs-3.17-bioc\R\library --no-vignettes --timings Gviz_1.44.2.tar.gz StartedAt: 2023-10-16 02:55:25 -0400 (Mon, 16 Oct 2023) EndedAt: 2023-10-16 03:06:18 -0400 (Mon, 16 Oct 2023) EllapsedTime: 653.0 seconds RetCode: 0 Status: OK CheckDir: Gviz.Rcheck Warnings: 0