Package: Gviz Version: 1.44.2 Command: /home/biocbuild/bbs-3.17-bioc/R/bin/R CMD build --keep-empty-dirs --no-resave-data Gviz StartedAt: 2023-10-15 17:03:37 -0400 (Sun, 15 Oct 2023) EndedAt: 2023-10-15 17:07:04 -0400 (Sun, 15 Oct 2023) EllapsedTime: 207.0 seconds RetCode: 0 Status: OK PackageFile: Gviz_1.44.2.tar.gz PackageFileSize: 6.882 MiB