Package: Guitar Version: 2.16.0 Command: F:\biocbuild\bbs-3.17-bioc\R\bin\R.exe CMD INSTALL Guitar StartedAt: 2023-10-15 16:26:37 -0400 (Sun, 15 Oct 2023) EndedAt: 2023-10-15 16:27:16 -0400 (Sun, 15 Oct 2023) EllapsedTime: 38.3 seconds RetCode: 0 Status: OK