Package: Guitar Version: 2.16.0 Command: rm -rf Guitar.buildbin-libdir && mkdir Guitar.buildbin-libdir && F:\biocbuild\bbs-3.17-bioc\R\bin\R.exe CMD INSTALL --build --library=Guitar.buildbin-libdir Guitar_2.16.0.tar.gz StartedAt: 2023-10-16 08:54:51 -0400 (Mon, 16 Oct 2023) EndedAt: 2023-10-16 08:55:36 -0400 (Mon, 16 Oct 2023) EllapsedTime: 44.9 seconds RetCode: 0 Status: OK PackageFile: Guitar_2.16.0.zip PackageFileSize: 3.71 MiB