Package: Guitar Version: 2.16.0 Command: /home/biocbuild/bbs-3.17-bioc/R/bin/R CMD build --keep-empty-dirs --no-resave-data Guitar StartedAt: 2023-10-15 17:03:31 -0400 (Sun, 15 Oct 2023) EndedAt: 2023-10-15 17:15:29 -0400 (Sun, 15 Oct 2023) EllapsedTime: 718.1 seconds RetCode: 0 Status: OK PackageFile: Guitar_2.16.0.tar.gz PackageFileSize: 3.684 MiB