Package: Guitar Version: 2.16.0 Command: /Library/Frameworks/R.framework/Resources/bin/R CMD INSTALL Guitar StartedAt: 2023-10-15 15:35:51 -0400 (Sun, 15 Oct 2023) EndedAt: 2023-10-15 15:37:41 -0400 (Sun, 15 Oct 2023) EllapsedTime: 109.6 seconds RetCode: 0 Status: OK