Package: Guitar Version: 2.16.0 Command: /Library/Frameworks/R.framework/Resources/bin/R CMD check --install=check:Guitar.install-out.txt --library=/Library/Frameworks/R.framework/Resources/library --no-vignettes --timings Guitar_2.16.0.tar.gz StartedAt: 2023-10-16 02:30:11 -0400 (Mon, 16 Oct 2023) EndedAt: 2023-10-16 02:44:16 -0400 (Mon, 16 Oct 2023) EllapsedTime: 844.7 seconds RetCode: 0 Status: OK CheckDir: Guitar.Rcheck Warnings: 0