Package: Guitar Version: 2.16.0 Command: rm -rf Guitar.buildbin-libdir && mkdir Guitar.buildbin-libdir && /Users/biocbuild/BBS/utils/build-universal.sh Guitar_2.16.0.tar.gz /Library/Frameworks/R.framework/Resources/bin/R Guitar.buildbin-libdir StartedAt: 2023-10-16 09:31:53 -0400 (Mon, 16 Oct 2023) EndedAt: 2023-10-16 09:33:54 -0400 (Mon, 16 Oct 2023) EllapsedTime: 121.1 seconds RetCode: 0 Status: OK PackageFile: Guitar_2.16.0.tgz PackageFileSize: 3.783 MiB