Package: GreyListChIP Version: 1.32.1 Command: rm -rf GreyListChIP.buildbin-libdir && mkdir GreyListChIP.buildbin-libdir && F:\biocbuild\bbs-3.17-bioc\R\bin\R.exe CMD INSTALL --build --library=GreyListChIP.buildbin-libdir GreyListChIP_1.32.1.tar.gz StartedAt: 2023-10-16 08:54:18 -0400 (Mon, 16 Oct 2023) EndedAt: 2023-10-16 08:55:00 -0400 (Mon, 16 Oct 2023) EllapsedTime: 42.2 seconds RetCode: 0 Status: OK PackageFile: GreyListChIP_1.32.1.zip PackageFileSize: 898.4 KiB