Package: GreyListChIP Version: 1.32.1 Command: /Library/Frameworks/R.framework/Resources/bin/R CMD INSTALL GreyListChIP StartedAt: 2023-10-15 15:34:02 -0400 (Sun, 15 Oct 2023) EndedAt: 2023-10-15 15:35:56 -0400 (Sun, 15 Oct 2023) EllapsedTime: 114.3 seconds RetCode: 0 Status: OK