Package: GreyListChIP Version: 1.32.1 Command: /Library/Frameworks/R.framework/Resources/bin/R CMD check --install=check:GreyListChIP.install-out.txt --library=/Library/Frameworks/R.framework/Resources/library --no-vignettes --timings GreyListChIP_1.32.1.tar.gz StartedAt: 2023-10-16 02:24:39 -0400 (Mon, 16 Oct 2023) EndedAt: 2023-10-16 02:35:14 -0400 (Mon, 16 Oct 2023) EllapsedTime: 635.2 seconds RetCode: 0 Status: OK CheckDir: GreyListChIP.Rcheck Warnings: 0