Package: GreyListChIP Version: 1.32.1 Command: /Library/Frameworks/R.framework/Resources/bin/R CMD build --keep-empty-dirs --no-resave-data GreyListChIP StartedAt: 2023-10-15 18:43:04 -0400 (Sun, 15 Oct 2023) EndedAt: 2023-10-15 18:44:58 -0400 (Sun, 15 Oct 2023) EllapsedTime: 114.3 seconds RetCode: 0 Status: OK PackageFile: GreyListChIP_1.32.1.tar.gz PackageFileSize: 340.7 KiB