Package: GraphAlignment Version: 1.64.0 Command: chmod a+r GraphAlignment -R && F:\biocbuild\bbs-3.17-bioc\R\bin\R.exe CMD build --keep-empty-dirs --no-resave-data GraphAlignment StartedAt: 2023-10-15 19:40:53 -0400 (Sun, 15 Oct 2023) EndedAt: 2023-10-15 19:41:07 -0400 (Sun, 15 Oct 2023) EllapsedTime: 14.0 seconds RetCode: 0 Status: OK PackageFile: GraphAlignment_1.64.0.tar.gz PackageFileSize: 455.2 KiB