Package: GraphAlignment Version: 1.64.0 Command: /home/biocbuild/bbs-3.17-bioc/R/bin/R CMD build --keep-empty-dirs --no-resave-data GraphAlignment StartedAt: 2023-10-15 17:00:59 -0400 (Sun, 15 Oct 2023) EndedAt: 2023-10-15 17:01:05 -0400 (Sun, 15 Oct 2023) EllapsedTime: 6.0 seconds RetCode: 0 Status: OK PackageFile: GraphAlignment_1.64.0.tar.gz PackageFileSize: 451.4 KiB