Package: GraphAlignment Version: 1.64.0 Command: /Library/Frameworks/R.framework/Resources/bin/R CMD build --keep-empty-dirs --no-resave-data GraphAlignment StartedAt: 2023-10-15 18:42:34 -0400 (Sun, 15 Oct 2023) EndedAt: 2023-10-15 18:42:55 -0400 (Sun, 15 Oct 2023) EllapsedTime: 21.6 seconds RetCode: 0 Status: OK PackageFile: GraphAlignment_1.64.0.tar.gz PackageFileSize: 591.8 KiB