Package: GraphAlignment Version: 1.64.0 Command: rm -rf GraphAlignment.buildbin-libdir && mkdir GraphAlignment.buildbin-libdir && /Users/biocbuild/BBS/utils/build-universal.sh GraphAlignment_1.64.0.tar.gz /Library/Frameworks/R.framework/Resources/bin/R GraphAlignment.buildbin-libdir StartedAt: 2023-10-16 09:30:58 -0400 (Mon, 16 Oct 2023) EndedAt: 2023-10-16 09:31:10 -0400 (Mon, 16 Oct 2023) EllapsedTime: 11.4 seconds RetCode: 0 Status: OK PackageFile: GraphAlignment_1.64.0.tgz PackageFileSize: 575.7 KiB