Package: GmicR Version: 1.14.0 Command: F:\biocbuild\bbs-3.17-bioc\R\bin\R.exe CMD INSTALL GmicR StartedAt: 2023-10-15 16:39:53 -0400 (Sun, 15 Oct 2023) EndedAt: 2023-10-15 16:40:27 -0400 (Sun, 15 Oct 2023) EllapsedTime: 33.6 seconds RetCode: 0 Status: OK