Package: GmicR Version: 1.14.0 Command: rm -rf GmicR.buildbin-libdir && mkdir GmicR.buildbin-libdir && F:\biocbuild\bbs-3.17-bioc\R\bin\R.exe CMD INSTALL --build --library=GmicR.buildbin-libdir GmicR_1.14.0.tar.gz StartedAt: 2023-10-16 08:53:16 -0400 (Mon, 16 Oct 2023) EndedAt: 2023-10-16 08:53:52 -0400 (Mon, 16 Oct 2023) EllapsedTime: 36.1 seconds RetCode: 0 Status: OK PackageFile: GmicR_1.14.0.zip PackageFileSize: 3.452 MiB