Package: GmicR Version: 1.14.0 Command: /Library/Frameworks/R.framework/Resources/bin/R CMD INSTALL GmicR StartedAt: 2023-10-15 16:03:34 -0400 (Sun, 15 Oct 2023) EndedAt: 2023-10-15 16:05:03 -0400 (Sun, 15 Oct 2023) EllapsedTime: 89.5 seconds RetCode: 0 Status: OK