Package: GladiaTOX Version: 1.16.0 Command: chmod a+r GladiaTOX -R && F:\biocbuild\bbs-3.17-bioc\R\bin\R.exe CMD build --keep-empty-dirs --no-resave-data GladiaTOX StartedAt: 2023-10-15 19:34:25 -0400 (Sun, 15 Oct 2023) EndedAt: 2023-10-15 19:39:10 -0400 (Sun, 15 Oct 2023) EllapsedTime: 284.9 seconds RetCode: 0 Status: OK PackageFile: GladiaTOX_1.16.0.tar.gz PackageFileSize: 2.658 MiB