Package: GladiaTOX Version: 1.16.0 Command: rm -rf GladiaTOX.buildbin-libdir && mkdir GladiaTOX.buildbin-libdir && F:\biocbuild\bbs-3.17-bioc\R\bin\R.exe CMD INSTALL --build --library=GladiaTOX.buildbin-libdir GladiaTOX_1.16.0.tar.gz StartedAt: 2023-10-16 08:52:57 -0400 (Mon, 16 Oct 2023) EndedAt: 2023-10-16 08:53:21 -0400 (Mon, 16 Oct 2023) EllapsedTime: 24.0 seconds RetCode: 0 Status: OK PackageFile: GladiaTOX_1.16.0.zip PackageFileSize: 2.888 MiB