Package: GladiaTOX Version: 1.16.0 Command: /home/biocbuild/bbs-3.17-bioc/R/bin/R CMD check --install=check:GladiaTOX.install-out.txt --library=/home/biocbuild/bbs-3.17-bioc/R/site-library --timings GladiaTOX_1.16.0.tar.gz StartedAt: 2023-10-15 21:43:20 -0400 (Sun, 15 Oct 2023) EndedAt: 2023-10-15 21:48:32 -0400 (Sun, 15 Oct 2023) EllapsedTime: 311.6 seconds RetCode: 0 Status: OK CheckDir: GladiaTOX.Rcheck Warnings: 0