Package: GladiaTOX Version: 1.16.0 Command: /home/biocbuild/bbs-3.17-bioc/R/bin/R CMD build --keep-empty-dirs --no-resave-data GladiaTOX StartedAt: 2023-10-15 16:57:43 -0400 (Sun, 15 Oct 2023) EndedAt: 2023-10-15 17:01:19 -0400 (Sun, 15 Oct 2023) EllapsedTime: 216.2 seconds RetCode: 0 Status: OK PackageFile: GladiaTOX_1.16.0.tar.gz PackageFileSize: 3.749 MiB