Package: GladiaTOX Version: 1.16.0 Command: rm -rf GladiaTOX.buildbin-libdir && mkdir GladiaTOX.buildbin-libdir && /Users/biocbuild/BBS/utils/build-universal.sh GladiaTOX_1.16.0.tar.gz /Library/Frameworks/R.framework/Resources/bin/R GladiaTOX.buildbin-libdir StartedAt: 2023-10-16 09:29:45 -0400 (Mon, 16 Oct 2023) EndedAt: 2023-10-16 09:30:58 -0400 (Mon, 16 Oct 2023) EllapsedTime: 72.9 seconds RetCode: 0 Status: OK PackageFile: GladiaTOX_1.16.0.tgz PackageFileSize: 4.04 MiB