Package: GeomxTools Version: 3.4.0 Command: /home/biocbuild/bbs-3.17-bioc/R/bin/R CMD INSTALL GeomxTools StartedAt: 2023-10-15 15:32:55 -0400 (Sun, 15 Oct 2023) EndedAt: 2023-10-15 15:33:21 -0400 (Sun, 15 Oct 2023) EllapsedTime: 26.1 seconds RetCode: 0 Status: OK