Package: GeoTcgaData Version: 2.0.0 Command: F:\biocbuild\bbs-3.17-bioc\R\bin\R.exe CMD INSTALL GeoTcgaData StartedAt: 2023-10-15 16:40:31 -0400 (Sun, 15 Oct 2023) EndedAt: 2023-10-15 16:41:16 -0400 (Sun, 15 Oct 2023) EllapsedTime: 44.8 seconds RetCode: 0 Status: OK