Package: GeoTcgaData Version: 2.0.0 Command: chmod a+r GeoTcgaData -R && F:\biocbuild\bbs-3.17-bioc\R\bin\R.exe CMD build --keep-empty-dirs --no-resave-data GeoTcgaData StartedAt: 2023-10-15 19:31:19 -0400 (Sun, 15 Oct 2023) EndedAt: 2023-10-15 19:32:30 -0400 (Sun, 15 Oct 2023) EllapsedTime: 70.5 seconds RetCode: 0 Status: OK PackageFile: GeoTcgaData_2.0.0.tar.gz PackageFileSize: 3.318 MiB