Package: GeoTcgaData Version: 2.0.0 Command: rm -rf GeoTcgaData.buildbin-libdir && mkdir GeoTcgaData.buildbin-libdir && F:\biocbuild\bbs-3.17-bioc\R\bin\R.exe CMD INSTALL --build --library=GeoTcgaData.buildbin-libdir GeoTcgaData_2.0.0.tar.gz StartedAt: 2023-10-16 08:52:20 -0400 (Mon, 16 Oct 2023) EndedAt: 2023-10-16 08:53:07 -0400 (Mon, 16 Oct 2023) EllapsedTime: 46.6 seconds RetCode: 0 Status: OK PackageFile: GeoTcgaData_2.0.0.zip PackageFileSize: 3.44 MiB